BEGIN:VCALENDAR
VERSION:2.0
PRODID:-//Squarespace Inc/Squarespace 6//v6//EN
BEGIN:VEVENT
UID:5bf0dd80cd836636ea4f2042@squarespace.com
DTSTAMP:20181119T091202Z
DTSTART:20181124T150000Z
DTEND:20181124T160000Z
SUMMARY:Predator Free BOP Start-up Workshop
GEO:-37.704115;176.14844
LOCATION:Balcony Room\, Historic Village\, 159 17th Ave\, Tauranga\, 3110\, 
 New Zealand
END:VEVENT
END:VCALENDAR
