BEGIN:VCALENDAR
VERSION:2.0
PRODID:-//Squarespace Inc/Squarespace 6//v6//EN
BEGIN:VEVENT
UID:5d70d9a84161ce000181887a@squarespace.com
DTSTAMP:20190905T101217Z
DTSTART:20190922T140000Z
DTEND:20190922T170000Z
SUMMARY:Sustainable Blue Backyard Conservation Event
GEO:-37.398253;175.93858
LOCATION:North End\, outside SLSC\, 3 The Esplanade\, Waihi Beach\, Bay Of 
 Plenty\, 3611\, New Zealand
END:VEVENT
END:VCALENDAR
