BEGIN:VCALENDAR
VERSION:2.0
PRODID:-//Squarespace Inc/Squarespace 6//v6//EN
BEGIN:VEVENT
UID:5d70dc163abbbf0001b87fe5@squarespace.com
DTSTAMP:20190905T104548Z
DTSTART:20190914T140000Z
DTEND:20190914T160000Z
SUMMARY:Te Puna  - Come Get A Trap
GEO:-37.695829;176.072893
LOCATION:Outside North Bay Real Estate\, Te Puna Village\, Bay Of Plenty\, 
 New Zealand
END:VEVENT
END:VCALENDAR
